
      
      
      
BEGIN:VCALENDAR
VERSION:2.0
PRODID:-//Nyíregyházi Sportcentrum - ECPv4.9.1.1//NONSGML v1.0//EN
CALSCALE:GREGORIAN
METHOD:PUBLISH
X-WR-CALNAME:Nyíregyházi Sportcentrum
X-ORIGINAL-URL:https://nyiregyhazisc.hu
X-WR-CALDESC:Events for Nyíregyházi Sportcentrum
BEGIN:VEVENT
DTSTART;TZID=UTC+1:20220212T113000
DTEND;TZID=UTC+1:20220212T180000
DTSTAMP:20260423T111538
CREATED:20220106T095906Z
LAST-MODIFIED:20220106T095915Z
UID:14097-1644665400-1644688800@nyiregyhazisc.hu
SUMMARY:dr.Kotsis Attiláné U15 OGYB III.osztály röplabda mérkőzés
DESCRIPTION:dr. Kotsis Attiláné U15 OGYB III.osztály női röplabda bajnoki mérkőzés \nHelyszín: Miskolc \nIdőpont: 2022. 02. 12. \nMérkőzések: \n11.30 Eötvös DSE-Nyíregyházi Sportcentrum-B \n14.30 Miskolci VSC – Nyíregyházi Sportcentrum-B \n16.00 Nyíregyházi Sportcentrum-B – EVSI-B \n
URL:https://nyiregyhazisc.hu/esemeny/dr-kotsis-attilane-u15-ogyb-iii-osztaly-roplabda-merkozes-2/
CATEGORIES:Sportesemény
END:VEVENT
END:VCALENDAR