
      
      
      
BEGIN:VCALENDAR
VERSION:2.0
PRODID:-//Nyíregyházi Sportcentrum - ECPv4.9.1.1//NONSGML v1.0//EN
CALSCALE:GREGORIAN
METHOD:PUBLISH
X-WR-CALNAME:Nyíregyházi Sportcentrum
X-ORIGINAL-URL:https://nyiregyhazisc.hu
X-WR-CALDESC:Events for Nyíregyházi Sportcentrum
BEGIN:VEVENT
DTSTART;TZID=UTC+1:20220522T113000
DTEND;TZID=UTC+1:20220522T170000
DTSTAMP:20260423T062657
CREATED:20220512T123853Z
LAST-MODIFIED:20220512T124130Z
UID:15354-1653219000-1653238800@nyiregyhazisc.hu
SUMMARY:Dr. Kotsis Attiláné U15 OGYB III.osztály  röplabda mérkőzés 1-4. helyért
DESCRIPTION:Helyszín: Békéscsaba \nMérkőzések: \n11.30 KESI ‘B’ – Nyíregyházi Sportcentrum ‘B’ \n14.30 BRSE Zöld – Nyíregyházi Sportcentrum ‘B’ \n16.00 Nyíregyházi Sportcentrum – Szolnoki SPC Kék \n
URL:https://nyiregyhazisc.hu/esemeny/dr-kotsis-attilane-u15-ogyb-iii-osztaly-roplabda-merkozes-1-4-helyert/
CATEGORIES:Sportesemény
END:VEVENT
END:VCALENDAR