
      
      
      
BEGIN:VCALENDAR
VERSION:2.0
PRODID:-//Nyíregyházi Sportcentrum - ECPv4.9.1.1//NONSGML v1.0//EN
CALSCALE:GREGORIAN
METHOD:PUBLISH
X-WR-CALNAME:Nyíregyházi Sportcentrum
X-ORIGINAL-URL:https://nyiregyhazisc.hu
X-WR-CALDESC:Events for Nyíregyházi Sportcentrum
BEGIN:VEVENT
DTSTART;TZID=UTC+1:20211105T113000
DTEND;TZID=UTC+1:20211105T190000
DTSTAMP:20260423T180532
CREATED:20211105T140204Z
LAST-MODIFIED:20211105T140204Z
UID:13609-1636111800-1636138800@nyiregyhazisc.hu
SUMMARY:Dr. Kotsis Attiláné U15 OGYB III.osztály női röplabda mérkőzés
DESCRIPTION:Dr. Kotsis Attiláné U15 OGYB III.osztály női röplabda mérkőzés \nMiskolc \n11.30 óra  Nyíregyházi Sportcentrum B – Tomajmonostra \n13.00 óra VRCK – Nyíregyházi Sportcentrum B \n17.30 óra Miskolci Sportiskola – Nyíregyházi Sportcentrum B \n
URL:https://nyiregyhazisc.hu/esemeny/dr-kotsis-attilane-u15-ogyb-iii-osztaly-noi-roplabda-merkozes/
END:VEVENT
END:VCALENDAR