
      
      
      
BEGIN:VCALENDAR
VERSION:2.0
PRODID:-//Nyíregyházi Sportcentrum - ECPv4.9.1.1//NONSGML v1.0//EN
CALSCALE:GREGORIAN
METHOD:PUBLISH
X-WR-CALNAME:Nyíregyházi Sportcentrum
X-ORIGINAL-URL:https://nyiregyhazisc.hu
X-WR-CALDESC:Events for Nyíregyházi Sportcentrum
BEGIN:VEVENT
DTSTART;TZID=UTC+1:20220409T100000
DTEND;TZID=UTC+1:20220409T190000
DTSTAMP:20260423T093150
CREATED:20220407T134218Z
LAST-MODIFIED:20220407T134218Z
UID:15075-1649498400-1649530800@nyiregyhazisc.hu
SUMMARY:dr. Kotsis Attiláné U15 OGYB III.osztály  Kelet Kvali 'S'  röplabda mérkőzés
DESCRIPTION:dr. Kotsis Attiláné U15 OGYB III.osztály Kelet Kvali ‘S’ röplabda mérkőzés \nHelyszín: Nyíregyháza \nMérkőzések: \n10.00 óra  Nyíregyházi Sportcentrum ‘B’ – KSE Gyerek Zöld \n14.30 óra Nyíregyházai Sportcentrum ‘B’ \n
URL:https://nyiregyhazisc.hu/esemeny/dr-kotsis-attilane-u15-ogyb-iii-osztaly-kelet-kvali-s-roplabda-merkozes/
CATEGORIES:Sportesemény
END:VEVENT
END:VCALENDAR