
      
      
      
BEGIN:VCALENDAR
VERSION:2.0
PRODID:-//Nyíregyházi Sportcentrum - ECPv4.9.1.1//NONSGML v1.0//EN
CALSCALE:GREGORIAN
METHOD:PUBLISH
X-WR-CALNAME:Nyíregyházi Sportcentrum
X-ORIGINAL-URL:https://nyiregyhazisc.hu
X-WR-CALDESC:Events for Nyíregyházi Sportcentrum
BEGIN:VEVENT
DTSTART;VALUE=DATE:20220501
DTEND;VALUE=DATE:20220502
DTSTAMP:20260423T075648
CREATED:20220429T113831Z
LAST-MODIFIED:20220429T113853Z
UID:15199-1651363200-1651449599@nyiregyhazisc.hu
SUMMARY:Dr. Kotsis Attiláné U15 OGYB I. osztály utánpótlás röplabda mérkőzés
DESCRIPTION:Dr. Kotsis Attiláné U15 OGYB I. osztály utánpótlás röplabda mérkőzés \nBudapest \nMérkőzések: \n11.30 BRSE Zöld- Nyíregyházi Sportcentrum -B \n14.30 Szolnoki SPC Kék – Nyíregyházi Sportcentrum-B \n16.00 Nyíregyházi Sportcentrum-B – KESI B \n
URL:https://nyiregyhazisc.hu/esemeny/dr-kotsis-attilane-u15-ogyb-i-osztaly-utanpotlas-roplabda-merkozes/
CATEGORIES:Sportesemény
END:VEVENT
END:VCALENDAR