
      
      
      
BEGIN:VCALENDAR
VERSION:2.0
PRODID:-//Nyíregyházi Sportcentrum - ECPv4.9.1.1//NONSGML v1.0//EN
CALSCALE:GREGORIAN
METHOD:PUBLISH
X-WR-CALNAME:Nyíregyházi Sportcentrum
X-ORIGINAL-URL:https://nyiregyhazisc.hu
X-WR-CALDESC:Events for Nyíregyházi Sportcentrum
BEGIN:VEVENT
DTSTART;TZID=UTC+1:20220320T123000
DTEND;TZID=UTC+1:20220320T170000
DTSTAMP:20260423T110548
CREATED:20220310T100517Z
LAST-MODIFIED:20220310T100517Z
UID:14836-1647779400-1647795600@nyiregyhazisc.hu
SUMMARY:Dr. Kotsis Attiláné  U15 OGYB I.osztály  röplabda bajnoki forduló
DESCRIPTION:Dr. Kotsis Attiláné U15 OGYB I.osztály röplabda bajnoki forduló \nHelyszín: Besenyszög \nIdőpont: 2022. március 20. \nMérkőzés: \n12.30 – Szegedi Narancs – Nyíregyházi Sportcentrum \n14.00 – Szolnoki SPC – Nyíregyházi Sportcentrum \n
URL:https://nyiregyhazisc.hu/esemeny/dr-kotsis-attilane-u15-ogyb-i-osztaly-roplabda-bajnoki-fordulo/
END:VEVENT
END:VCALENDAR