
      
      
      
BEGIN:VCALENDAR
VERSION:2.0
PRODID:-//Nyíregyházi Sportcentrum - ECPv4.9.1.1//NONSGML v1.0//EN
CALSCALE:GREGORIAN
METHOD:PUBLISH
X-WR-CALNAME:Nyíregyházi Sportcentrum
X-ORIGINAL-URL:https://nyiregyhazisc.hu
X-WR-CALDESC:Events for Nyíregyházi Sportcentrum
BEGIN:VEVENT
DTSTART;TZID=UTC+1:20211016T110000
DTEND;TZID=UTC+1:20211016T170000
DTSTAMP:20260423T223228
CREATED:20211014T094037Z
LAST-MODIFIED:20211014T094037Z
UID:13469-1634382000-1634403600@nyiregyhazisc.hu
SUMMARY:Dr. Kotsis Attiláné U15 OGYB I. osztály leány röplabda bajnoki forduló
DESCRIPTION:Dr. Kotsis Attiláné U15 OGYB I. osztály leány röplabda bajnoki forduló \nGödöllő \n11.00 Gödöllői RC – Nyíregyházi Sportcentrum \n12.30 Nyíregyházi Sportcentrum  – RÖAK Kaposvár ‘A’ \n
URL:https://nyiregyhazisc.hu/esemeny/dr-kotsis-attilane-u15-ogyb-i-osztaly-leany-roplabda-bajnoki-fordulo/
END:VEVENT
END:VCALENDAR