
      
      
      
BEGIN:VCALENDAR
VERSION:2.0
PRODID:-//Nyíregyházi Sportcentrum - ECPv4.9.1.1//NONSGML v1.0//EN
CALSCALE:GREGORIAN
METHOD:PUBLISH
X-WR-CALNAME:Nyíregyházi Sportcentrum
X-ORIGINAL-URL:https://nyiregyhazisc.hu
X-WR-CALDESC:Events for Nyíregyházi Sportcentrum
BEGIN:VEVENT
DTSTART;TZID=UTC+1:20230527T113000
DTEND;TZID=UTC+1:20230527T140000
DTSTAMP:20260422T112207
CREATED:20230526T101556Z
LAST-MODIFIED:20230526T101556Z
UID:19177-1685187000-1685196000@nyiregyhazisc.hu
SUMMARY:dr. Kotsis Attiláné U15 OB/ U15 III.o. Kelet döntő 1-4. hely Nyíregyháza
DESCRIPTION:Nyíregyházi Sportcentrum  Piros – UTE U15 Bíbor  11.30 óra \n
URL:https://nyiregyhazisc.hu/esemeny/dr-kotsis-attilane-u15-ob-u15-iii-o-kelet-donto-1-4-hely-nyiregyhaza/
CATEGORIES:Sportesemény
END:VEVENT
END:VCALENDAR