
      
      
      
BEGIN:VCALENDAR
VERSION:2.0
PRODID:-//Nyíregyházi Sportcentrum - ECPv4.9.1.1//NONSGML v1.0//EN
CALSCALE:GREGORIAN
METHOD:PUBLISH
X-WR-CALNAME:Nyíregyházi Sportcentrum
X-ORIGINAL-URL:https://nyiregyhazisc.hu
X-WR-CALDESC:Events for Nyíregyházi Sportcentrum
BEGIN:VEVENT
DTSTART;TZID=UTC+1:20231028T130000
DTEND;TZID=UTC+1:20231028T170000
DTSTAMP:20260422T053334
CREATED:20231019T123608Z
LAST-MODIFIED:20231019T123608Z
UID:20658-1698498000-1698512400@nyiregyhazisc.hu
SUMMARY:dr.Kotsis Attiláné U15 OB I.oszt. leány röplabda bajnokság - Kecskemét
DESCRIPTION:Mérkőzések: \n13.00 Delta RSE – Nyíregyházi Sportcentrum \n15.00 Nyíregyházi Sportcentrum – KESI – R.A. ‘A’ \n  \n
URL:https://nyiregyhazisc.hu/esemeny/dr-kotsis-attilane-u15-ob-i-oszt-leany-roplabda-bajnoksag-kecskemet/
CATEGORIES:Sportesemény
END:VEVENT
END:VCALENDAR