
      
      
      
BEGIN:VCALENDAR
VERSION:2.0
PRODID:-//Nyíregyházi Sportcentrum - ECPv4.9.1.1//NONSGML v1.0//EN
CALSCALE:GREGORIAN
METHOD:PUBLISH
X-WR-CALNAME:Nyíregyházi Sportcentrum
X-ORIGINAL-URL:https://nyiregyhazisc.hu
X-WR-CALDESC:Events for Nyíregyházi Sportcentrum
BEGIN:VEVENT
DTSTART;VALUE=DATE:20230526
DTEND;VALUE=DATE:20230528
DTSTAMP:20260422T111452
CREATED:20230526T101202Z
LAST-MODIFIED:20230526T101202Z
UID:19175-1685059200-1685231999@nyiregyhazisc.hu
SUMMARY:dr. Kotsis Attiláné U15 OB/ Döntő - Budapest
DESCRIPTION:Május 26.pénteki mérkőzések: \n14.00 Gödöllői RC – Nyíregyházi Sportcentrum \n17.00 Nyíregyházi Sportcentrum – SZOSI A \n
URL:https://nyiregyhazisc.hu/esemeny/dr-kotsis-attilane-u15-ob-donto-budapest/
CATEGORIES:Sportesemény
END:VEVENT
END:VCALENDAR