
      
      
      
BEGIN:VCALENDAR
VERSION:2.0
PRODID:-//Nyíregyházi Sportcentrum - ECPv4.9.1.1//NONSGML v1.0//EN
CALSCALE:GREGORIAN
METHOD:PUBLISH
X-WR-CALNAME:Nyíregyházi Sportcentrum
X-ORIGINAL-URL:https://nyiregyhazisc.hu
X-WR-CALDESC:Events for Nyíregyházi Sportcentrum
BEGIN:VEVENT
DTSTART;TZID=UTC+1:20231028T110000
DTEND;TZID=UTC+1:20231028T170000
DTSTAMP:20260422T040523
CREATED:20231019T124202Z
LAST-MODIFIED:20231019T124202Z
UID:20662-1698490800-1698512400@nyiregyhazisc.hu
SUMMARY:dr. Kotsis Attiláné U15 IV. Észak-Magyarország 'A' alapszakasz leány röplabda mérkőzés - Nyíregyháza
DESCRIPTION:Mérkőzések: \n11.00 Nyíregyházi Sportcentrum Fehér – Hajdúböszörményi E \n14.00 Nyíregyházi Sportcentrum Fehér – Eötvös DSE ‘B’ \n
URL:https://nyiregyhazisc.hu/esemeny/dr-kotsis-attilane-u15-iv-eszak-magyarorszag-a-alapszakasz-leany-roplabda-merkozes-nyiregyhaza/
CATEGORIES:Sportesemény
END:VEVENT
END:VCALENDAR