
      
      
      
BEGIN:VCALENDAR
VERSION:2.0
PRODID:-//Nyíregyházi Sportcentrum - ECPv4.9.1.1//NONSGML v1.0//EN
CALSCALE:GREGORIAN
METHOD:PUBLISH
X-WR-CALNAME:Nyíregyházi Sportcentrum
X-ORIGINAL-URL:https://nyiregyhazisc.hu
X-WR-CALDESC:Events for Nyíregyházi Sportcentrum
BEGIN:VEVENT
DTSTART;TZID=UTC+1:20231126T110000
DTEND;TZID=UTC+1:20231126T170000
DTSTAMP:20260422T021536
CREATED:20231121T091920Z
LAST-MODIFIED:20231121T091920Z
UID:20891-1700996400-1701018000@nyiregyhazisc.hu
SUMMARY:dr. Kotsis Attiláné Országos Lány Röplabda Bajnokság - U15. III Kelet 'B' Alapszakasz  - Nyíregyháza
DESCRIPTION:Mérkőzések: \n11.00 Nyíregyházi Sportcentrum Kék – Kispest SE ‘A’ \n15.00 Eötvös DSE ‘A’ – Nyíregyházi Sportcentrum Kék \n  \n  \n  \n
URL:https://nyiregyhazisc.hu/esemeny/dr-kotsis-attilane-orszagos-lany-roplabda-bajnoksag-u15-iii-kelet-b-alapszakasz-nyiregyhaza/
CATEGORIES:Sportesemény
END:VEVENT
END:VCALENDAR