
      
      
      
BEGIN:VCALENDAR
VERSION:2.0
PRODID:-//Nyíregyházi Sportcentrum - ECPv4.9.1.1//NONSGML v1.0//EN
CALSCALE:GREGORIAN
METHOD:PUBLISH
X-WR-CALNAME:Nyíregyházi Sportcentrum
X-ORIGINAL-URL:https://nyiregyhazisc.hu
X-WR-CALDESC:Events for Nyíregyházi Sportcentrum
BEGIN:VEVENT
DTSTART;TZID=UTC+1:20230416T130000
DTEND;TZID=UTC+1:20230416T150000
DTSTAMP:20260422T162239
CREATED:20230417T084538Z
LAST-MODIFIED:20230417T084538Z
UID:18738-1681650000-1681657200@nyiregyhazisc.hu
SUMMARY:dr. Kotsis Attilán U15 OB röplabda bajnoki mérkőzés I.osztály: Vasas SC U15 Kék - Nyíregyházi Sportcentrum
DESCRIPTION:
URL:https://nyiregyhazisc.hu/esemeny/dr-kotsis-attilan-u15-ob-roplabda-bajnoki-merkozes-i-osztaly-vasas-sc-u15-kek-nyiregyhazi-sportcentrum/
LOCATION:Budapest
END:VEVENT
END:VCALENDAR