
      
      
      
BEGIN:VCALENDAR
VERSION:2.0
PRODID:-//Nyíregyházi Sportcentrum - ECPv4.9.1.1//NONSGML v1.0//EN
CALSCALE:GREGORIAN
METHOD:PUBLISH
X-WR-CALNAME:Nyíregyházi Sportcentrum
X-ORIGINAL-URL:https://nyiregyhazisc.hu
X-WR-CALDESC:Events for Nyíregyházi Sportcentrum
BEGIN:VEVENT
DTSTART;TZID=UTC+1:20220925T120000
DTEND;TZID=UTC+1:20220925T140000
DTSTAMP:20260423T010609
CREATED:20220922T094259Z
LAST-MODIFIED:20220922T094259Z
UID:16411-1664107200-1664114400@nyiregyhazisc.hu
SUMMARY:Dombrádi Mobil SE - Nyíregyházi Sportcentrum FU14 II.osztály - Kisvárda - fiú kézilabda mérkőzés
DESCRIPTION:
URL:https://nyiregyhazisc.hu/esemeny/dombradi-mobil-se-nyiregyhazi-sportcentrum-fu14-ii-osztaly-kisvarda-fiu-kezilabda-merkozes/
CATEGORIES:Sportesemény
END:VEVENT
END:VCALENDAR