
      
      
      
BEGIN:VCALENDAR
VERSION:2.0
PRODID:-//Nyíregyházi Sportcentrum - ECPv4.9.1.1//NONSGML v1.0//EN
CALSCALE:GREGORIAN
METHOD:PUBLISH
X-WR-CALNAME:Nyíregyházi Sportcentrum
X-ORIGINAL-URL:https://nyiregyhazisc.hu
X-WR-CALDESC:Events for Nyíregyházi Sportcentrum
BEGIN:VEVENT
DTSTART;TZID=UTC+1:20220313T183000
DTEND;TZID=UTC+1:20220313T200000
DTSTAMP:20260423T094123
CREATED:20220225T094123Z
LAST-MODIFIED:20220225T094123Z
UID:14675-1647196200-1647201600@nyiregyhazisc.hu
SUMMARY:DEAC-KA U16/B - Nyíregyházi Sportcentrum/A fiú kadett kosárlabda mérkőzés
DESCRIPTION:DEAC-KA U16/B – Nyíregyházi Sportcentrum/A fiú kadett kosárlabda mérkőzés \nIdőpont: 2022. március 13. 18.30 \n
URL:https://nyiregyhazisc.hu/esemeny/deac-ka-u16-b-nyiregyhazi-sportcentrum-a-fiu-kadett-kosarlabda-merkozes/
CATEGORIES:Sportesemény
END:VEVENT
END:VCALENDAR