
      
      
      
BEGIN:VCALENDAR
VERSION:2.0
PRODID:-//Nyíregyházi Sportcentrum - ECPv4.9.1.1//NONSGML v1.0//EN
CALSCALE:GREGORIAN
METHOD:PUBLISH
X-WR-CALNAME:Nyíregyházi Sportcentrum
X-ORIGINAL-URL:https://nyiregyhazisc.hu
X-WR-CALDESC:Events for Nyíregyházi Sportcentrum
BEGIN:VEVENT
DTSTART;TZID=UTC+1:20230907T080000
DTEND;TZID=UTC+1:20230907T170000
DTSTAMP:20260422T053507
CREATED:20230907T085439Z
LAST-MODIFIED:20230907T085439Z
UID:20048-1694073600-1694106000@nyiregyhazisc.hu
SUMMARY:DEAC - A'Stúdió Futsal Nyíregyháza - férfi bajnoki futsal mérkőzés - Debrecen
DESCRIPTION:
URL:https://nyiregyhazisc.hu/esemeny/deac-astudio-futsal-nyiregyhaza-ferfi-bajnoki-futsal-merkozes-debrecen/
CATEGORIES:Sportesemény
END:VEVENT
END:VCALENDAR