
      
      
      
BEGIN:VCALENDAR
VERSION:2.0
PRODID:-//Nyíregyházi Sportcentrum - ECPv4.9.1.1//NONSGML v1.0//EN
CALSCALE:GREGORIAN
METHOD:PUBLISH
X-WR-CALNAME:Nyíregyházi Sportcentrum
X-ORIGINAL-URL:https://nyiregyhazisc.hu
X-WR-CALDESC:Events for Nyíregyházi Sportcentrum
BEGIN:VEVENT
DTSTART;VALUE=DATE:20220420
DTEND;VALUE=DATE:20220424
DTSTAMP:20260423T075427
CREATED:20220209T123652Z
LAST-MODIFIED:20220209T123652Z
UID:14454-1650412800-1650758399@nyiregyhazisc.hu
SUMMARY:CXXIV. Felnőtt Úszó Országos Bajnokság
DESCRIPTION:CXXIV. Felnőtt Úszó Országos Bajnokság \nHelyszín: Debrecen \nIdőpont: 2022. április 20-23. \n
URL:https://nyiregyhazisc.hu/esemeny/cxxiv-felnott-uszo-orszagos-bajnoksag/
CATEGORIES:Sportesemény
END:VEVENT
END:VCALENDAR