
      
      
      
BEGIN:VCALENDAR
VERSION:2.0
PRODID:-//Nyíregyházi Sportcentrum - ECPv4.9.1.1//NONSGML v1.0//EN
CALSCALE:GREGORIAN
METHOD:PUBLISH
X-WR-CALNAME:Nyíregyházi Sportcentrum
X-ORIGINAL-URL:https://nyiregyhazisc.hu
X-WR-CALDESC:Events for Nyíregyházi Sportcentrum
BEGIN:VEVENT
DTSTART;TZID=UTC+1:20231011T080000
DTEND;TZID=UTC+1:20231011T090000
DTSTAMP:20260422T053046
CREATED:20231004T135001Z
LAST-MODIFIED:20231004T135030Z
UID:20515-1697011200-1697014800@nyiregyhazisc.hu
SUMMARY:Csontritkulás mozgásprogram - Mozdulj Nyíregyháza! - Continental Aréna
DESCRIPTION: \n
URL:https://nyiregyhazisc.hu/esemeny/csontritkulas-mozgasprogram/
CATEGORIES:Sportesemény
END:VEVENT
END:VCALENDAR