
      
      
      
BEGIN:VCALENDAR
VERSION:2.0
PRODID:-//Nyíregyházi Sportcentrum - ECPv4.9.1.1//NONSGML v1.0//EN
CALSCALE:GREGORIAN
METHOD:PUBLISH
X-WR-CALNAME:Nyíregyházi Sportcentrum
X-ORIGINAL-URL:https://nyiregyhazisc.hu
X-WR-CALDESC:Events for Nyíregyházi Sportcentrum
BEGIN:VEVENT
DTSTART;TZID=UTC+1:20220212T100000
DTEND;TZID=UTC+1:20220212T123000
DTSTAMP:20260423T110812
CREATED:20220210T124806Z
LAST-MODIFIED:20220210T124806Z
UID:14471-1644660000-1644669000@nyiregyhazisc.hu
SUMMARY:Cívis KK Debrecen/A - Nyíregyházi Sportcentrum serdülő kosárlabda mérkőzés
DESCRIPTION:Cívis KK Debrecen/A – Nyíregyházi Sportcentrum serdülő kosárlabda mérkőzés \nHelyszín: Debrecen \n
URL:https://nyiregyhazisc.hu/esemeny/civis-kk-debrecen-a-nyiregyhazi-sportcentrum-serdulo-kosarlabda-merkozes/
CATEGORIES:Sportesemény
END:VEVENT
END:VCALENDAR