
      
      
      
BEGIN:VCALENDAR
VERSION:2.0
PRODID:-//Nyíregyházi Sportcentrum - ECPv4.9.1.1//NONSGML v1.0//EN
CALSCALE:GREGORIAN
METHOD:PUBLISH
X-WR-CALNAME:Nyíregyházi Sportcentrum
X-ORIGINAL-URL:https://nyiregyhazisc.hu
X-WR-CALDESC:Events for Nyíregyházi Sportcentrum
BEGIN:VEVENT
DTSTART;TZID=UTC+1:20231123T163000
DTEND;TZID=UTC+1:20231123T183000
DTSTAMP:20260422T021626
CREATED:20231121T081450Z
LAST-MODIFIED:20231121T081450Z
UID:20877-1700757000-1700764200@nyiregyhazisc.hu
SUMMARY:Ceglédi KKSE - Nyíregyházi Sportcentrum U18 fiú kézilabda bajnoki mérkőzés - Cegléd
DESCRIPTION:
URL:https://nyiregyhazisc.hu/esemeny/cegledi-kkse-nyiregyhazi-sportcentrum-u18-fiu-kezilabda-bajnoki-merkozes-cegled/
CATEGORIES:Sportesemény
END:VEVENT
END:VCALENDAR