
      
      
      
BEGIN:VCALENDAR
VERSION:2.0
PRODID:-//Nyíregyházi Sportcentrum - ECPv4.9.1.1//NONSGML v1.0//EN
CALSCALE:GREGORIAN
METHOD:PUBLISH
X-WR-CALNAME:Nyíregyházi Sportcentrum
X-ORIGINAL-URL:https://nyiregyhazisc.hu
X-WR-CALDESC:Events for Nyíregyházi Sportcentrum
BEGIN:VEVENT
DTSTART;TZID=UTC+1:20220129T080000
DTEND;TZID=UTC+1:20220129T170000
DTSTAMP:20260423T124735
CREATED:20220127T103543Z
LAST-MODIFIED:20220127T103543Z
UID:14246-1643443200-1643475600@nyiregyhazisc.hu
SUMMARY:Budapest Régió Nyílt Fedett Pályás Bajnokság Budapest
DESCRIPTION:Budapest Régió Nyílt Fedett Pályás Bajnokság \nHelyszín: Budapest \nIdőpont: 2022.01.29. \n
URL:https://nyiregyhazisc.hu/esemeny/budapest-regio-nyilt-fedett-palyas-bajnoksag-budapest/
CATEGORIES:Sportesemény
END:VEVENT
END:VCALENDAR