
      
      
      
BEGIN:VCALENDAR
VERSION:2.0
PRODID:-//Nyíregyházi Sportcentrum - ECPv4.9.1.1//NONSGML v1.0//EN
CALSCALE:GREGORIAN
METHOD:PUBLISH
X-WR-CALNAME:Nyíregyházi Sportcentrum
X-ORIGINAL-URL:https://nyiregyhazisc.hu
X-WR-CALDESC:Events for Nyíregyházi Sportcentrum
BEGIN:VEVENT
DTSTART;TZID=UTC+1:20220316T150000
DTEND;TZID=UTC+1:20220316T170000
DTSTAMP:20260423T111938
CREATED:20220224T105741Z
LAST-MODIFIED:20220224T105741Z
UID:14656-1647442800-1647450000@nyiregyhazisc.hu
SUMMARY:Budapest Basket - Nyíregyházi Sportcentrum junior fiú kosárlabda mérkőzés
DESCRIPTION:Budapest Basket – Nyíregyházi Sportcentrum junior fiú kosárlabda mérkőzés \nIdőpont: 2022. március 16. 15.15 óra \n
URL:https://nyiregyhazisc.hu/esemeny/budapest-basket-nyiregyhazi-sportcentrum-junior-fiu-kosarlabda-merkozes/
END:VEVENT
END:VCALENDAR