
      
      
      
BEGIN:VCALENDAR
VERSION:2.0
PRODID:-//Nyíregyházi Sportcentrum - ECPv4.9.1.1//NONSGML v1.0//EN
CALSCALE:GREGORIAN
METHOD:PUBLISH
X-WR-CALNAME:Nyíregyházi Sportcentrum
X-ORIGINAL-URL:https://nyiregyhazisc.hu
X-WR-CALDESC:Events for Nyíregyházi Sportcentrum
BEGIN:VEVENT
DTSTART;TZID=UTC+1:20230920T180000
DTEND;TZID=UTC+1:20230920T200000
DTSTAMP:20260422T053605
CREATED:20230918T133515Z
LAST-MODIFIED:20230918T133515Z
UID:20279-1695232800-1695240000@nyiregyhazisc.hu
SUMMARY:BSK - Miskolc - Nyíregyházi Sportcentrum U19 lány kézilabda bajnoki mérkőzés - Kazincbarcika
DESCRIPTION:
URL:https://nyiregyhazisc.hu/esemeny/bsk-miskolc-nyiregyhazi-sportcentrum-u19-lany-kezilabda-bajnoki-merkozes-kazincbarcika/
CATEGORIES:Sportesemény
END:VEVENT
END:VCALENDAR