
      
      
      
BEGIN:VCALENDAR
VERSION:2.0
PRODID:-//Nyíregyházi Sportcentrum - ECPv4.9.1.1//NONSGML v1.0//EN
CALSCALE:GREGORIAN
METHOD:PUBLISH
X-WR-CALNAME:Nyíregyházi Sportcentrum
X-ORIGINAL-URL:https://nyiregyhazisc.hu
X-WR-CALDESC:Events for Nyíregyházi Sportcentrum
BEGIN:VEVENT
DTSTART;TZID=UTC+1:20220929T170000
DTEND;TZID=UTC+1:20220929T190000
DTSTAMP:20260422T220405
CREATED:20220920T122553Z
LAST-MODIFIED:20220920T122553Z
UID:16354-1664470800-1664478000@nyiregyhazisc.hu
SUMMARY:Balmazújvárosi KK - Nyíregyházi Sportcentrum FU20 II.osztály fiú kézilabda mérkőzés
DESCRIPTION:
URL:https://nyiregyhazisc.hu/esemeny/balmazujvarosi-kk-nyiregyhazi-sportcentrum-fu20-ii-osztaly-fiu-kezilabda-merkozes/
CATEGORIES:Sportesemény
END:VEVENT
END:VCALENDAR