
      
      
      
BEGIN:VCALENDAR
VERSION:2.0
PRODID:-//Nyíregyházi Sportcentrum - ECPv4.9.1.1//NONSGML v1.0//EN
CALSCALE:GREGORIAN
METHOD:PUBLISH
X-WR-CALNAME:Nyíregyházi Sportcentrum
X-ORIGINAL-URL:https://nyiregyhazisc.hu
X-WR-CALDESC:Events for Nyíregyházi Sportcentrum
BEGIN:VEVENT
DTSTART;VALUE=DATE:20220514
DTEND;VALUE=DATE:20220516
DTSTAMP:20260423T062233
CREATED:20220406T111935Z
LAST-MODIFIED:20220406T111935Z
UID:15058-1652486400-1652659199@nyiregyhazisc.hu
SUMMARY:Atlétikai Magyar Csapatbajnokság
DESCRIPTION:Atlétikai Magyar Csapatbajnokság \nHelyszín: Miskolc \n  \n
URL:https://nyiregyhazisc.hu/esemeny/atletikai-magyar-csapatbajnoksag/
CATEGORIES:Sportesemény
END:VEVENT
END:VCALENDAR