
      
      
      
BEGIN:VCALENDAR
VERSION:2.0
PRODID:-//Nyíregyházi Sportcentrum - ECPv4.9.1.1//NONSGML v1.0//EN
CALSCALE:GREGORIAN
METHOD:PUBLISH
X-WR-CALNAME:Nyíregyházi Sportcentrum
X-ORIGINAL-URL:https://nyiregyhazisc.hu
X-WR-CALDESC:Events for Nyíregyházi Sportcentrum
BEGIN:VEVENT
DTSTART;TZID=UTC+1:20231117T183000
DTEND;TZID=UTC+1:20231117T200000
DTSTAMP:20260422T021626
CREATED:20230912T132531Z
LAST-MODIFIED:20230912T132531Z
UID:20176-1700245800-1700251200@nyiregyhazisc.hu
SUMMARY:A'Stúdió Futsal Nyíregyháza - Aramis SE - NBI férfi futsal bajnoki mérkőzés -Continental Aréna
DESCRIPTION:
URL:https://nyiregyhazisc.hu/esemeny/astudio-futsal-nyiregyhaza-aramis-se-nbi-ferfi-futsal-bajnoki-merkozes-continental-arena/
CATEGORIES:Sportesemény
END:VEVENT
END:VCALENDAR