
      
      
      
BEGIN:VCALENDAR
VERSION:2.0
PRODID:-//Nyíregyházi Sportcentrum - ECPv4.9.1.1//NONSGML v1.0//EN
CALSCALE:GREGORIAN
METHOD:PUBLISH
X-WR-CALNAME:Nyíregyházi Sportcentrum
X-ORIGINAL-URL:https://nyiregyhazisc.hu
X-WR-CALDESC:Events for Nyíregyházi Sportcentrum
BEGIN:VEVENT
DTSTART;TZID=UTC+1:20231020T180000
DTEND;TZID=UTC+1:20231020T200000
DTSTAMP:20260422T040825
CREATED:20230912T125803Z
LAST-MODIFIED:20230912T125823Z
UID:20171-1697824800-1697832000@nyiregyhazisc.hu
SUMMARY:A'Stúdió Futsal Nyíregyháza - Újpest FC 220 Volt - NBI férfi futsal bajnoki mérkőzés - Zrínyi Ilona Gimnázium Tiszavasvári úti Tornacsarnoka
DESCRIPTION:
URL:https://nyiregyhazisc.hu/esemeny/astiu-futsal-nyiregyhaza-ujpest-fc-220-volt-nbi-ferfi-futsal-bajnoki-merkozes-zrinyi-ilona-gimnazium-tiszavasvari-uti-tornacsarnoka/
CATEGORIES:Sportesemény
END:VEVENT
END:VCALENDAR