
      
      
      
BEGIN:VCALENDAR
VERSION:2.0
PRODID:-//Nyíregyházi Sportcentrum - ECPv4.9.1.1//NONSGML v1.0//EN
CALSCALE:GREGORIAN
METHOD:PUBLISH
X-WR-CALNAME:Nyíregyházi Sportcentrum
X-ORIGINAL-URL:https://nyiregyhazisc.hu
X-WR-CALDESC:Events for Nyíregyházi Sportcentrum
BEGIN:VEVENT
DTSTART;TZID=UTC+1:20260506T180000
DTEND;TZID=UTC+1:20260506T200000
DTSTAMP:20260421T120708
CREATED:20260417T125959Z
LAST-MODIFIED:20260417T125959Z
UID:31445-1778090400-1778097600@nyiregyhazisc.hu
SUMMARY:Alakreform Rubint Rékával
DESCRIPTION:
URL:https://nyiregyhazisc.hu/esemeny/alakreform-rubint-rekaval/
CATEGORIES:Sportesemény
END:VEVENT
END:VCALENDAR