
      
      
      
BEGIN:VCALENDAR
VERSION:2.0
PRODID:-//Nyíregyházi Sportcentrum - ECPv4.9.1.1//NONSGML v1.0//EN
CALSCALE:GREGORIAN
METHOD:PUBLISH
X-WR-CALNAME:Nyíregyházi Sportcentrum
X-ORIGINAL-URL:https://nyiregyhazisc.hu
X-WR-CALDESC:Events for Nyíregyházi Sportcentrum
BEGIN:VEVENT
DTSTART;VALUE=DATE:20230520
DTEND;VALUE=DATE:20230521
DTSTAMP:20260422T112034
CREATED:20230519T123132Z
LAST-MODIFIED:20230519T123132Z
UID:19149-1684540800-1684627199@nyiregyhazisc.hu
SUMMARY:49. Paulinyi Jenő Emlékverseny (Utánpótlás Liga 1. forduló - B nap) - Budapest
DESCRIPTION:
URL:https://nyiregyhazisc.hu/esemeny/49-paulinyi-jeno-emlekverseny-utanpotlas-liga-1-fordulo-b-nap-budapest/
CATEGORIES:Sportesemény
END:VEVENT
END:VCALENDAR