
      
      
      
BEGIN:VCALENDAR
VERSION:2.0
PRODID:-//Nyíregyházi Sportcentrum - ECPv4.9.1.1//NONSGML v1.0//EN
CALSCALE:GREGORIAN
METHOD:PUBLISH
X-WR-CALNAME:Nyíregyházi Sportcentrum
X-ORIGINAL-URL:https://nyiregyhazisc.hu
X-WR-CALDESC:Events for Nyíregyházi Sportcentrum
BEGIN:VEVENT
DTSTART;VALUE=DATE:20220618
DTEND;VALUE=DATE:20220619
DTSTAMP:20260423T062422
CREATED:20220512T112256Z
LAST-MODIFIED:20220512T112256Z
UID:15342-1655510400-1655596799@nyiregyhazisc.hu
SUMMARY:38. Honvéd Kupa Nyílt Atlétikai Verseny Székesfehérvár
DESCRIPTION:
URL:https://nyiregyhazisc.hu/esemeny/38-honved-kupa-nyilt-atletikai-verseny-szekesfehervar/
CATEGORIES:Sportesemény
END:VEVENT
END:VCALENDAR