
      
      
      
BEGIN:VCALENDAR
VERSION:2.0
PRODID:-//Nyíregyházi Sportcentrum - ECPv4.9.1.1//NONSGML v1.0//EN
CALSCALE:GREGORIAN
METHOD:PUBLISH
X-WR-CALNAME:Nyíregyházi Sportcentrum
X-ORIGINAL-URL:https://nyiregyhazisc.hu
X-WR-CALDESC:Events for Nyíregyházi Sportcentrum
BEGIN:VEVENT
DTSTART;VALUE=DATE:20231007
DTEND;VALUE=DATE:20231008
DTSTAMP:20260422T053631
CREATED:20231003T081815Z
LAST-MODIFIED:20231003T081815Z
UID:20468-1696636800-1696723199@nyiregyhazisc.hu
SUMMARY:1. Masters  Nyíregyházi Sportcentrum Kupa - úszóverseny - Eissmann Városi Uszoda - Nyíregyháza
DESCRIPTION:
URL:https://nyiregyhazisc.hu/esemeny/1-masters-nyiregyhazi-sportcentrum-kupa-uszoverseny-eissmann-varosi-uszoda-nyiregyhaza/
END:VEVENT
END:VCALENDAR