
      
      
      
BEGIN:VCALENDAR
VERSION:2.0
PRODID:-//Nyíregyházi Sportcentrum - ECPv4.9.1.1//NONSGML v1.0//EN
CALSCALE:GREGORIAN
METHOD:PUBLISH
X-WR-CALNAME:Nyíregyházi Sportcentrum
X-ORIGINAL-URL:http://nyiregyhazisc.hu
X-WR-CALDESC:Events for Nyíregyházi Sportcentrum
BEGIN:VEVENT
DTSTART;TZID=UTC+1:20250224T163000
DTEND;TZID=UTC+1:20250228T174500
DTSTAMP:20260421T162250
CREATED:20250102T130158Z
LAST-MODIFIED:20250102T130158Z
UID:26057-1740414600-1740764700@nyiregyhazisc.hu
SUMMARY:Úszásoktatás az Eissmann Városi Uszodában
DESCRIPTION:
URL:http://nyiregyhazisc.hu/esemeny/uszasoktatas-az-eissmann-varosi-uszodaban-46/
CATEGORIES:Sportesemény
END:VEVENT
BEGIN:VEVENT
DTSTART;TZID=UTC+1:20250224T163000
DTEND;TZID=UTC+1:20250228T174500
DTSTAMP:20260421T162250
CREATED:20250102T131724Z
LAST-MODIFIED:20250102T131724Z
UID:26059-1740414600-1740764700@nyiregyhazisc.hu
SUMMARY:Úszásoktatás az Eissmann Városi Uszodában
DESCRIPTION:
URL:http://nyiregyhazisc.hu/esemeny/uszasoktatas-az-eissmann-varosi-uszodaban-47/
CATEGORIES:Sportesemény
END:VEVENT
BEGIN:VEVENT
DTSTART;TZID=UTC+1:20250228T190000
DTEND;TZID=UTC+1:20250228T210000
DTSTAMP:20260421T162250
CREATED:20250102T133614Z
LAST-MODIFIED:20250102T133614Z
UID:26081-1740769200-1740776400@nyiregyhazisc.hu
SUMMARY:Eger SZSE - Nyíregyházi Sportcentrum FU20 kézilabda bajnoki mérkőzés  - Eger
DESCRIPTION:
URL:http://nyiregyhazisc.hu/esemeny/eger-szse-nyiregyhazi-sportcentrum-fu20-kezilabda-bajnoki-merkozes-eger/
CATEGORIES:Sportesemény
END:VEVENT
END:VCALENDAR